BEGIN:VCALENDAR
VERSION:2.0
PRODID:spatie/icalendar-generator
DESCRIPTION:Events from TOM THE MIME
X-WR-CALDESC:Events from TOM THE MIME
REFRESH-INTERVAL;VALUE=DURATION:PT1440M
X-PUBLISHED-TTL:PT1440M
BEGIN:VTIMEZONE
TZID:Etc/GMT+0
BEGIN:STANDARD
DTSTART:20250513T000000Z
TZOFFSETFROM:+0000
TZOFFSETTO:+0000
END:STANDARD
END:VTIMEZONE
BEGIN:VTIMEZONE
TZID:UTC
BEGIN:STANDARD
DTSTART:20250727T181846Z
TZOFFSETFROM:+0000
TZOFFSETTO:+0000
END:STANDARD
END:VTIMEZONE
BEGIN:VEVENT
UID:102-81
DTSTAMP:20260423T181846Z
SUMMARY:Clearwater Strong man competition
LOCATION:
ORGANIZER;CN=tom:MAILTO:tomthemime@yahoo.com
DTSTART;TZID=Etc/GMT+0;VALUE=DATE:20260207
DTEND;TZID=Etc/GMT+0;VALUE=DATE:20260208
X-ALT-DESC;FMTTYPE=TEXT/HTML:7 Causeway Blvd\, Clearwater\, FL\, United Sta
 tes\, Florida
CATEGORIES:General
URL;VALUE=URI:https://tomthemime.com/mc-events/clearwater-strong-man-compet
 ition/
METHOD:PUBLISH
END:VEVENT
END:VCALENDAR