BEGIN:VCALENDAR
VERSION:2.0
PRODID:spatie/icalendar-generator
DESCRIPTION:Events from TOM THE MIME
X-WR-CALDESC:Events from TOM THE MIME
REFRESH-INTERVAL;VALUE=DURATION:PT1440M
X-PUBLISHED-TTL:PT1440M
BEGIN:VTIMEZONE
TZID:Etc/GMT+0
BEGIN:STANDARD
DTSTART:20240826T000000Z
TZOFFSETFROM:+0000
TZOFFSETTO:+0000
END:STANDARD
END:VTIMEZONE
BEGIN:VTIMEZONE
TZID:UTC
BEGIN:STANDARD
DTSTART:20250728T104657Z
TZOFFSETFROM:+0000
TZOFFSETTO:+0000
END:STANDARD
END:VTIMEZONE
BEGIN:VEVENT
UID:6-5
DTSTAMP:20260424T104657Z
SUMMARY:Los Lobos Concert/ Fresno Cal
LOCATION:
ORGANIZER;CN=Tom Munson:MAILTO:tkcdedoc@gator4333.hostgator.com
DTSTART;TZID=Etc/GMT+0:20250523T000000
DTEND;TZID=Etc/GMT+0:20250524T010000
X-ALT-DESC;FMTTYPE=TEXT/HTML:
CATEGORIES:General
URL;VALUE=URI:https://tomthemime.com/mc-events/los-lobos-concert-fresno-cal
 /
METHOD:PUBLISH
END:VEVENT
END:VCALENDAR