BEGIN:VCALENDAR
VERSION:2.0
PRODID:spatie/icalendar-generator
DESCRIPTION:Events from TOM THE MIME
X-WR-CALDESC:Events from TOM THE MIME
REFRESH-INTERVAL;VALUE=DURATION:PT1440M
X-PUBLISHED-TTL:PT1440M
BEGIN:VTIMEZONE
TZID:Etc/GMT+0
BEGIN:STANDARD
DTSTART:20241013T000000Z
TZOFFSETFROM:+0000
TZOFFSETTO:+0000
END:STANDARD
END:VTIMEZONE
BEGIN:VTIMEZONE
TZID:UTC
BEGIN:STANDARD
DTSTART:20250728T065118Z
TZOFFSETFROM:+0000
TZOFFSETTO:+0000
END:STANDARD
END:VTIMEZONE
BEGIN:VEVENT
UID:37-17
DTSTAMP:20260424T065118Z
SUMMARY:sea world
LOCATION:
ORGANIZER;CN=Tom Munson:MAILTO:tkcdedoc@gator4333.hostgator.com
DTSTART;TZID=Etc/GMT+0;VALUE=DATE:20250710
DTEND;TZID=Etc/GMT+0;VALUE=DATE:20250711
X-ALT-DESC;FMTTYPE=TEXT/HTML:
CATEGORIES:General,  Sea World
URL;VALUE=URI:https://tomthemime.com/mc-events/sea-world-13/
METHOD:PUBLISH
END:VEVENT
END:VCALENDAR