BEGIN:VCALENDAR
VERSION:2.0
PRODID:spatie/icalendar-generator
DESCRIPTION:Events from TOM THE MIME
X-WR-CALDESC:Events from TOM THE MIME
REFRESH-INTERVAL;VALUE=DURATION:PT1440M
X-PUBLISHED-TTL:PT1440M
BEGIN:VTIMEZONE
TZID:Etc/GMT+0
BEGIN:STANDARD
DTSTART:20241025T000000Z
TZOFFSETFROM:+0000
TZOFFSETTO:+0000
END:STANDARD
END:VTIMEZONE
BEGIN:VTIMEZONE
TZID:UTC
BEGIN:STANDARD
DTSTART:20250728T043127Z
TZOFFSETFROM:+0000
TZOFFSETTO:+0000
END:STANDARD
END:VTIMEZONE
BEGIN:VEVENT
UID:44-21
DTSTAMP:20260424T043127Z
SUMMARY:sea world
LOCATION:
ORGANIZER;CN=Tom Munson:MAILTO:tkcdedoc@gator4333.hostgator.com
DTSTART;TZID=Etc/GMT+0;VALUE=DATE:20250722
DTEND;TZID=Etc/GMT+0;VALUE=DATE:20250723
X-ALT-DESC;FMTTYPE=TEXT/HTML:
CATEGORIES:Sea World
URL;VALUE=URI:https://tomthemime.com/mc-events/sea-world-20/
METHOD:PUBLISH
END:VEVENT
END:VCALENDAR