BEGIN:VCALENDAR
VERSION:2.0
PRODID:spatie/icalendar-generator
DESCRIPTION:Events from TOM THE MIME
X-WR-CALDESC:Events from TOM THE MIME
REFRESH-INTERVAL;VALUE=DURATION:PT1440M
X-PUBLISHED-TTL:PT1440M
BEGIN:VTIMEZONE
TZID:Etc/GMT+0
BEGIN:STANDARD
DTSTART:20241223T000000Z
TZOFFSETFROM:+0000
TZOFFSETTO:+0000
END:STANDARD
END:VTIMEZONE
BEGIN:VTIMEZONE
TZID:UTC
BEGIN:STANDARD
DTSTART:20250727T235033Z
TZOFFSETFROM:+0000
TZOFFSETTO:+0000
END:STANDARD
END:VTIMEZONE
BEGIN:VEVENT
UID:58-38
DTSTAMP:20260423T235033Z
SUMMARY:sea world
LOCATION:
ORGANIZER;CN=Tom Munson:MAILTO:tkcdedoc@gator4333.hostgator.com
DTSTART;TZID=Etc/GMT+0;VALUE=DATE:20250919
DTEND;TZID=Etc/GMT+0;VALUE=DATE:20250920
X-ALT-DESC;FMTTYPE=TEXT/HTML:
CATEGORIES:Sea World
URL;VALUE=URI:https://tomthemime.com/mc-events/sea-world-34/
METHOD:PUBLISH
END:VEVENT
END:VCALENDAR