BEGIN:VCALENDAR
VERSION:2.0
PRODID:spatie/icalendar-generator
DESCRIPTION:Events from TOM THE MIME
X-WR-CALDESC:Events from TOM THE MIME
REFRESH-INTERVAL;VALUE=DURATION:PT1440M
X-PUBLISHED-TTL:PT1440M
BEGIN:VTIMEZONE
TZID:Etc/GMT+0
BEGIN:STANDARD
DTSTART:20250331T000000Z
TZOFFSETFROM:+0000
TZOFFSETTO:+0000
END:STANDARD
END:VTIMEZONE
BEGIN:VTIMEZONE
TZID:UTC
BEGIN:STANDARD
DTSTART:20250727T222531Z
TZOFFSETFROM:+0000
TZOFFSETTO:+0000
END:STANDARD
END:VTIMEZONE
BEGIN:VEVENT
UID:84-64
DTSTAMP:20260423T222531Z
SUMMARY:sea world
LOCATION:
ORGANIZER;CN=tom:MAILTO:tomthemime@yahoo.com
DTSTART;TZID=Etc/GMT+0;VALUE=DATE:20251226
DTEND;TZID=Etc/GMT+0;VALUE=DATE:20251227
X-ALT-DESC;FMTTYPE=TEXT/HTML:
CATEGORIES:General
URL;VALUE=URI:https://tomthemime.com/mc-events/sea-world-60/
METHOD:PUBLISH
END:VEVENT
END:VCALENDAR