BEGIN:VCALENDAR
VERSION:2.0
PRODID:spatie/icalendar-generator
DESCRIPTION:Events from TOM THE MIME
X-WR-CALDESC:Events from TOM THE MIME
REFRESH-INTERVAL;VALUE=DURATION:PT1440M
X-PUBLISHED-TTL:PT1440M
BEGIN:VTIMEZONE
TZID:Etc/GMT+0
BEGIN:STANDARD
DTSTART:20250602T000000Z
TZOFFSETFROM:+0000
TZOFFSETTO:+0000
END:STANDARD
END:VTIMEZONE
BEGIN:VTIMEZONE
TZID:UTC
BEGIN:STANDARD
DTSTART:20250729T133631Z
TZOFFSETFROM:+0000
TZOFFSETTO:+0000
END:STANDARD
END:VTIMEZONE
BEGIN:VEVENT
UID:101-80
DTSTAMP:20260425T133631Z
SUMMARY:sea world
LOCATION:
ORGANIZER;CN=tom:MAILTO:tomthemime@yahoo.com
DTSTART;TZID=Etc/GMT+0;VALUE=DATE:20260227
DTEND;TZID=Etc/GMT+0;VALUE=DATE:20260228
X-ALT-DESC;FMTTYPE=TEXT/HTML:
CATEGORIES:Sea World
URL;VALUE=URI:https://tomthemime.com/mc-events/sea-world-76/
METHOD:PUBLISH
END:VEVENT
END:VCALENDAR